0.20000000
0.00000000
0.00000000
-0.20000000
664000.10000000
6929999.90000000
