0.20000000
0.00000000
0.00000000
-0.20000000
667000.10000000
6932999.90000000
