0.20000000
0.00000000
0.00000000
-0.20000000
680000.10000000
6931999.90000000
