0.20000000
0.00000000
0.00000000
-0.20000000
681000.10000000
6920999.90000000
