0.20000000
0.00000000
0.00000000
-0.20000000
683000.10000000
6904999.90000000
