0.20000000
0.00000000
0.00000000
-0.20000000
684000.10000000
6906999.90000000
