0.20000000
0.00000000
0.00000000
-0.20000000
691000.10000000
6901999.90000000
