0.20000000
0.00000000
0.00000000
-0.20000000
692000.10000000
6927999.90000000
