0.20000000
0.00000000
0.00000000
-0.20000000
695000.10000000
6908999.90000000
