0.20000000
0.00000000
0.00000000
-0.20000000
708000.10000000
6922999.90000000
