0.20000000
0.00000000
0.00000000
-0.20000000
592000.10000000
7001999.90000000
