0.20000000
0.00000000
0.00000000
-0.20000000
594000.10000000
7000999.90000000
