0.20000000
0.00000000
0.00000000
-0.20000000
594000.10000000
7022999.90000000
