0.20000000
0.00000000
0.00000000
-0.20000000
601000.10000000
6986999.90000000
