0.20000000
0.00000000
0.00000000
-0.20000000
603000.10000000
6998999.90000000
