0.20000000
0.00000000
0.00000000
-0.20000000
603000.10000000
7004999.90000000
