0.20000000
0.00000000
0.00000000
-0.20000000
604000.10000000
7028999.90000000
