0.20000000
0.00000000
0.00000000
-0.20000000
607000.10000000
7006999.90000000
