0.20000000
0.00000000
0.00000000
-0.20000000
608000.10000000
6983999.90000000
