0.20000000
0.00000000
0.00000000
-0.20000000
610000.10000000
7002999.90000000
