0.20000000
0.00000000
0.00000000
-0.20000000
611000.10000000
6968999.90000000
