0.20000000
0.00000000
0.00000000
-0.20000000
613000.10000000
6981999.90000000
