0.20000000
0.00000000
0.00000000
-0.20000000
614000.10000000
6988999.90000000
