0.20000000
0.00000000
0.00000000
-0.20000000
618000.10000000
7026999.90000000
