0.20000000
0.00000000
0.00000000
-0.20000000
622000.10000000
6965999.90000000
