0.20000000
0.00000000
0.00000000
-0.20000000
623000.10000000
7023999.90000000
