0.20000000
0.00000000
0.00000000
-0.20000000
627000.10000000
6984999.90000000
