0.20000000
0.00000000
0.00000000
-0.20000000
628000.10000000
6977999.90000000
