0.20000000
0.00000000
0.00000000
-0.20000000
629000.10000000
7019999.90000000
