0.20000000
0.00000000
0.00000000
-0.20000000
630000.10000000
6982999.90000000
