0.20000000
0.00000000
0.00000000
-0.20000000
632000.10000000
7018999.90000000
