0.20000000
0.00000000
0.00000000
-0.20000000
636000.10000000
7012999.90000000
