0.20000000
0.00000000
0.00000000
-0.20000000
638000.10000000
7008999.90000000
