0.20000000
0.00000000
0.00000000
-0.20000000
641000.10000000
7003999.90000000
