0.20000000
0.00000000
0.00000000
-0.20000000
650000.10000000
6966999.90000000
