0.20000000
0.00000000
0.00000000
-0.20000000
653000.10000000
7007999.90000000
