0.20000000
0.00000000
0.00000000
-0.20000000
657000.10000000
6985999.90000000
