0.20000000
0.00000000
0.00000000
-0.20000000
659000.10000000
7013999.90000000
