0.20000000
0.00000000
0.00000000
-0.20000000
662000.10000000
6974999.90000000
