0.20000000
0.00000000
0.00000000
-0.20000000
663000.10000000
7011999.90000000
