0.20000000
0.00000000
0.00000000
-0.20000000
665000.10000000
6976999.90000000
