0.20000000
0.00000000
0.00000000
-0.20000000
671000.10000000
7005999.90000000
