0.20000000
0.00000000
0.00000000
-0.20000000
675000.10000000
6950999.90000000
