0.20000000
0.00000000
0.00000000
-0.20000000
676000.10000000
6995999.90000000
