0.20000000
0.00000000
0.00000000
-0.20000000
678000.10000000
6953999.90000000
