0.20000000
0.00000000
0.00000000
-0.20000000
686000.10000000
6956999.90000000
