0.20000000
0.00000000
0.00000000
-0.20000000
688000.10000000
6958999.90000000
