0.20000000
0.00000000
0.00000000
-0.20000000
690000.10000000
6997999.90000000
