0.20000000
0.00000000
0.00000000
-0.20000000
694000.10000000
6978999.90000000
