0.20000000
0.00000000
0.00000000
-0.20000000
696000.10000000
6975999.90000000
